Workbook
Name abc: #REF!
Name abc: #REF!
Name abc: #REF!
Name abc: #REF!
Name abc: #REF!
Name abc: #REF!
Name abs: #REF!
Name abs: #REF!
Name abs: #REF!
Name abs: #REF!
Name abs: #REF!
Name abs: #REF!
Name mistake: #REF!
Name mistake: #REF!
Name mistake: #REF!
Name x: #REF!
Name x: #REF!
Name x: #REF!
Name x: #REF!
Name x: #REF!
Name x: #REF!
Name xxx: #REF!
Name xxx: #REF!
Name xxx: #REF!
Name xxx: #REF!
Name xxx: #REF!
Name xxx: #REF!
Name xxx1: #REF!
Name xxx1: #REF!
Name xxx1: #REF!
Name xxx1: #REF!
Name xxx1: #REF!
Name xxx1: #REF!
Name z: #REF!
Name z: #REF!
Name z: #REF!
Name z: #REF!
Name z: #REF!
Name z: #REF!

Sheet Accueil
B2: Modèle de population de varroas | C2: Modèle de population de varroas | D2: Modèle de population de varroas | E2: Modèle de population de varroas | F2: Modèle de population de varroas | G2: Modèle de population de varroas | H2: Modèle de population de varroas | I2: Modèle de population de varroas | J2: Modèle de population de varroas | K2: Modèle de population de varroas | L2: Modèle de population de varroas | M2: Modèle de population de varroas
B3: Modèle de population de varroas | C3: Modèle de population de varroas | D3: Modèle de population de varroas | E3: Modèle de population de varroas | F3: Modèle de population de varroas | G3: Modèle de population de varroas | H3: Modèle de population de varroas | I3: Modèle de population de varroas | J3: Modèle de population de varroas | K3: Modèle de population de varroas | L3: Modèle de population de varroas | M3: Modèle de population de varroas
B5: Randy Oliver · édition 2026 · traduction française | C5: Randy Oliver · édition 2026 · traduction française | D5: Randy Oliver · édition 2026 · traduction française | E5: Randy Oliver · édition 2026 · traduction française | F5: Randy Oliver · édition 2026 · traduction française | G5: Randy Oliver · édition 2026 · traduction française | H5: Randy Oliver · édition 2026 · traduction française | I5: Randy Oliver · édition 2026 · traduction française | J5: Randy Oliver · édition 2026 · traduction française | K5: Randy Oliver · édition 2026 · traduction française | L5: Randy Oliver · édition 2026 · traduction française | M5: Randy Oliver · édition 2026 · traduction française
B6: Randy Oliver · édition 2026 · traduction française | C6: Randy Oliver · édition 2026 · traduction française | D6: Randy Oliver · édition 2026 · traduction française | E6: Randy Oliver · édition 2026 · traduction française | F6: Randy Oliver · édition 2026 · traduction française | G6: Randy Oliver · édition 2026 · traduction française | H6: Randy Oliver · édition 2026 · traduction française | I6: Randy Oliver · édition 2026 · traduction française | J6: Randy Oliver · édition 2026 · traduction française | K6: Randy Oliver · édition 2026 · traduction française | L6: Randy Oliver · édition 2026 · traduction française | M6: Randy Oliver · édition 2026 · traduction française
B9: Commencez par le modèle principal. Les cellules vertes et les cases jaunes d’intervention conservent le rôle indiqué dans l’original. Les codes de profil et les formules restent ceux du classeur. | C9: Commencez par le modèle principal. Les cellules vertes et les cases jaunes d’intervention conservent le rôle indiqué dans l’original. Les codes de profil et les formules restent ceux du classeur. | D9: Commencez par le modèle principal. Les cellules vertes et les cases jaunes d’intervention conservent le rôle indiqué dans l’original. Les codes de profil et les formules restent ceux du classeur. | E9: Commencez par le modèle principal. Les cellules vertes et les cases jaunes d’intervention conservent le rôle indiqué dans l’original. Les codes de profil et les formules restent ceux du classeur. | F9: Commencez par le modèle principal. Les cellules vertes et les cases jaunes d’intervention conservent le rôle indiqué dans l’original. Les codes de profil et les formules restent ceux du classeur. | G9: Commencez par le modèle principal. Les cellules vertes et les cases jaunes d’intervention conservent le rôle indiqué dans l’original. Les codes de profil et les formules restent ceux du classeur. | H9: Commencez par le modèle principal. Les cellules vertes et les cases jaunes d’intervention conservent le rôle indiqué dans l’original. Les codes de profil et les formules restent ceux du classeur. | I9: Commencez par le modèle principal. Les cellules vertes et les cases jaunes d’intervention conservent le rôle indiqué dans l’original. Les codes de profil et les formules restent ceux du classeur. | J9: Commencez par le modèle principal. Les cellules vertes et les cases jaunes d’intervention conservent le rôle indiqué dans l’original. Les codes de profil et les formules restent ceux du classeur. | K9: Commencez par le modèle principal. Les cellules vertes et les cases jaunes d’intervention conservent le rôle indiqué dans l’original. Les codes de profil et les formules restent ceux du classeur. | L9: Commencez par le modèle principal. Les cellules vertes et les cases jaunes d’intervention conservent le rôle indiqué dans l’original. Les codes de profil et les formules restent ceux du classeur. | M9: Commencez par le modèle principal. Les cellules vertes et les cases jaunes d’intervention conservent le rôle indiqué dans l’original. Les codes de profil et les formules restent ceux du classeur.
B10: Commencez par le modèle principal. Les cellules vertes et les cases jaunes d’intervention conservent le rôle indiqué dans l’original. Les codes de profil et les formules restent ceux du classeur. | C10: Commencez par le modèle principal. Les cellules vertes et les cases jaunes d’intervention conservent le rôle indiqué dans l’original. Les codes de profil et les formules restent ceux du classeur. | D10: Commencez par le modèle principal. Les cellules vertes et les cases jaunes d’intervention conservent le rôle indiqué dans l’original. Les codes de profil et les formules restent ceux du classeur. | E10: Commencez par le modèle principal. Les cellules vertes et les cases jaunes d’intervention conservent le rôle indiqué dans l’original. Les codes de profil et les formules restent ceux du classeur. | F10: Commencez par le modèle principal. Les cellules vertes et les cases jaunes d’intervention conservent le rôle indiqué dans l’original. Les codes de profil et les formules restent ceux du classeur. | G10: Commencez par le modèle principal. Les cellules vertes et les cases jaunes d’intervention conservent le rôle indiqué dans l’original. Les codes de profil et les formules restent ceux du classeur. | H10: Commencez par le modèle principal. Les cellules vertes et les cases jaunes d’intervention conservent le rôle indiqué dans l’original. Les codes de profil et les formules restent ceux du classeur. | I10: Commencez par le modèle principal. Les cellules vertes et les cases jaunes d’intervention conservent le rôle indiqué dans l’original. Les codes de profil et les formules restent ceux du classeur. | J10: Commencez par le modèle principal. Les cellules vertes et les cases jaunes d’intervention conservent le rôle indiqué dans l’original. Les codes de profil et les formules restent ceux du classeur. | K10: Commencez par le modèle principal. Les cellules vertes et les cases jaunes d’intervention conservent le rôle indiqué dans l’original. Les codes de profil et les formules restent ceux du classeur. | L10: Commencez par le modèle principal. Les cellules vertes et les cases jaunes d’intervention conservent le rôle indiqué dans l’original. Les codes de profil et les formules restent ceux du classeur. | M10: Commencez par le modèle principal. Les cellules vertes et les cases jaunes d’intervention conservent le rôle indiqué dans l’original. Les codes de profil et les formules restent ceux du classeur.
B11: Commencez par le modèle principal. Les cellules vertes et les cases jaunes d’intervention conservent le rôle indiqué dans l’original. Les codes de profil et les formules restent ceux du classeur. | C11: Commencez par le modèle principal. Les cellules vertes et les cases jaunes d’intervention conservent le rôle indiqué dans l’original. Les codes de profil et les formules restent ceux du classeur. | D11: Commencez par le modèle principal. Les cellules vertes et les cases jaunes d’intervention conservent le rôle indiqué dans l’original. Les codes de profil et les formules restent ceux du classeur. | E11: Commencez par le modèle principal. Les cellules vertes et les cases jaunes d’intervention conservent le rôle indiqué dans l’original. Les codes de profil et les formules restent ceux du classeur. | F11: Commencez par le modèle principal. Les cellules vertes et les cases jaunes d’intervention conservent le rôle indiqué dans l’original. Les codes de profil et les formules restent ceux du classeur. | G11: Commencez par le modèle principal. Les cellules vertes et les cases jaunes d’intervention conservent le rôle indiqué dans l’original. Les codes de profil et les formules restent ceux du classeur. | H11: Commencez par le modèle principal. Les cellules vertes et les cases jaunes d’intervention conservent le rôle indiqué dans l’original. Les codes de profil et les formules restent ceux du classeur. | I11: Commencez par le modèle principal. Les cellules vertes et les cases jaunes d’intervention conservent le rôle indiqué dans l’original. Les codes de profil et les formules restent ceux du classeur. | J11: Commencez par le modèle principal. Les cellules vertes et les cases jaunes d’intervention conservent le rôle indiqué dans l’original. Les codes de profil et les formules restent ceux du classeur. | K11: Commencez par le modèle principal. Les cellules vertes et les cases jaunes d’intervention conservent le rôle indiqué dans l’original. Les codes de profil et les formules restent ceux du classeur. | L11: Commencez par le modèle principal. Les cellules vertes et les cases jaunes d’intervention conservent le rôle indiqué dans l’original. Les codes de profil et les formules restent ceux du classeur. | M11: Commencez par le modèle principal. Les cellules vertes et les cases jaunes d’intervention conservent le rôle indiqué dans l’original. Les codes de profil et les formules restent ceux du classeur.
B13: Modèle principal | C13: Modèle principal | D13: Modèle principal | E13: Modèle principal | F13: Modèle principal | G13: Simulation saisonnière et interventions | H13: Simulation saisonnière et interventions | I13: Simulation saisonnière et interventions | J13: Simulation saisonnière et interventions | K13: Simulation saisonnière et interventions | L13: Simulation saisonnière et interventions | M13: Simulation saisonnière et interventions
B14: Modèle principal | C14: Modèle principal | D14: Modèle principal | E14: Modèle principal | F14: Modèle principal | G14: Simulation saisonnière et interventions | H14: Simulation saisonnière et interventions | I14: Simulation saisonnière et interventions | J14: Simulation saisonnière et interventions | K14: Simulation saisonnière et interventions | L14: Simulation saisonnière et interventions | M14: Simulation saisonnière et interventions
B15: Paramètres libres | C15: Paramètres libres | D15: Paramètres libres | E15: Paramètres libres | F15: Paramètres libres | G15: Même modèle, avec paramètres modifiables | H15: Même modèle, avec paramètres modifiables | I15: Même modèle, avec paramètres modifiables | J15: Même modèle, avec paramètres modifiables | K15: Même modèle, avec paramètres modifiables | L15: Même modèle, avec paramètres modifiables | M15: Même modèle, avec paramètres modifiables
B16: Paramètres libres | C16: Paramètres libres | D16: Paramètres libres | E16: Paramètres libres | F16: Paramètres libres | G16: Même modèle, avec paramètres modifiables | H16: Même modèle, avec paramètres modifiables | I16: Même modèle, avec paramètres modifiables | J16: Même modèle, avec paramètres modifiables | K16: Même modèle, avec paramètres modifiables | L16: Même modèle, avec paramètres modifiables | M16: Même modèle, avec paramètres modifiables
B17: Densité ajustée | C17: Densité ajustée | D17: Densité ajustée | E17: Densité ajustée | F17: Densité ajustée | G17: Variante avec densité d’abeilles par cadre | H17: Variante avec densité d’abeilles par cadre | I17: Variante avec densité d’abeilles par cadre | J17: Variante avec densité d’abeilles par cadre | K17: Variante avec densité d’abeilles par cadre | L17: Variante avec densité d’abeilles par cadre | M17: Variante avec densité d’abeilles par cadre
... B53: À ouvrir de préférence dans Microsoft Excel, comme le recommande le document original. Les traductions des noms de fonctions s’affichent selon la langue d’Excel. Les noms propres, références bibliographiques et codes techniques utiles sont conservés. | C53: À ouvrir de préférence dans Microsoft Excel, comme le recommande le document original. Les traductions des noms de fonctions s’affichent selon la langue d’Excel. Les noms propres, références bibliographiques et codes techniques utiles sont conservés. | D53: À ouvrir de préférence dans Microsoft Excel, comme le recommande le document original. Les traductions des noms de fonctions s’affichent selon la langue d’Excel. Les noms propres, références bibliographiques et codes techniques utiles sont conservés. | E53: À ouvrir de préférence dans Microsoft Excel, comme le recommande le document original. Les traductions des noms de fonctions s’affichent selon la langue d’Excel. Les noms propres, références bibliographiques et codes techniques utiles sont conservés. | F53: À ouvrir de préférence dans Microsoft Excel, comme le recommande le document original. Les traductions des noms de fonctions s’affichent selon la langue d’Excel. Les noms propres, références bibliographiques et codes techniques utiles sont conservés. | G53: À ouvrir de préférence dans Microsoft Excel, comme le recommande le document original. Les traductions des noms de fonctions s’affichent selon la langue d’Excel. Les noms propres, références bibliographiques et codes techniques utiles sont conservés. | H53: À ouvrir de préférence dans Microsoft Excel, comme le recommande le document original. Les traductions des noms de fonctions s’affichent selon la langue d’Excel. Les noms propres, références bibliographiques et codes techniques utiles sont conservés. | I53: À ouvrir de préférence dans Microsoft Excel, comme le recommande le document original. Les traductions des noms de fonctions s’affichent selon la langue d’Excel. Les noms propres, références bibliographiques et codes techniques utiles sont conservés. | J53: À ouvrir de préférence dans Microsoft Excel, comme le recommande le document original. Les traductions des noms de fonctions s’affichent selon la langue d’Excel. Les noms propres, références bibliographiques et codes techniques utiles sont conservés. | K53: À ouvrir de préférence dans Microsoft Excel, comme le recommande le document original. Les traductions des noms de fonctions s’affichent selon la langue d’Excel. Les noms propres, références bibliographiques et codes techniques utiles sont conservés. | L53: À ouvrir de préférence dans Microsoft Excel, comme le recommande le document original. Les traductions des noms de fonctions s’affichent selon la langue d’Excel. Les noms propres, références bibliographiques et codes techniques utiles sont conservés. | M53: À ouvrir de préférence dans Microsoft Excel, comme le recommande le document original. Les traductions des noms de fonctions s’affichent selon la langue d’Excel. Les noms propres, références bibliographiques et codes techniques utiles sont conservés.

Sheet Modèle principal
DM1: ='Immigration de varroas'!H9 -> 0
AF2: © Randy Oliver 2016 | BP2: Entrées et conversions de l’onglet Profils de colonie | BU2: Valeurs calculées | CH2: Calculs pour le couvain de mâles | CR2: Calculs pour le couvain d’ouvrières | DB2: Taux logarithmique quotidien r potentiel | DC2: Taux reproductif potentiel | DF2: Population de varroas | DI2: Gain de varroas | DK2: Pertes de varroas | DL2: Pertes de varroas | DM2: Gain de varroas | DN2: Pertes de varroas | DR2: Pertes de varroas | DS2: Population de varroas | DV2: Calcul du comptage par lavage à l’alcool, en supposant 315 abeilles par échantillon | EC2: Calcul des pertes de varroas par dérive hors de la ruche | EJ2: Ajustement de r lié au vieillissement des varroas
K3: 100 | L3: 50 | Q3: 50 | R3: 85 | S3: sb | BF3: commentaire | BP3: Dans cette ligne, j’ai placé des notes et des validations des calculs sous forme de commentaires. Ceux qui sont surlignés en rouge demandent un examen plus approfondi → | BR3: commentaire | BT3: commentaire | BW3: commentaire | BY3: commentaire | BZ3: commentaire | CD3: commentaire | CF3: commentaire | CK3: Commentaire | CL3: Commentaire | CM3: commentaire | CN3: commentaire | CU3: Commentaire | CV3: Commentaire | CY3: commentaire | DB3: commentaire | DC3: commentaire | DD3: commentaire | DG3: commentaire | DH3: commentaire | DI3: commentaire | DL3: commentaire | DM3: commentaire | DN3: commentaire | DR3: commentaire | DY3: commentaire | EC3: commentaire | EG3: commentaire | EH3: commentaire | EK3: commentaire | EL3: commentaire
BA4: Date de début de la période | BB4: Population de varroas au début de la période | BC4: Taux logarithmique quotidien net d’accroissement des varroas (r) | BD4: Arrivées de varroas par dérive (immigration) | BE4: =DX4 -> Comptage par lavage à l’alcool d’environ 120 mL de jeunes abeilles (½ tasse dans l’original) | BF4: % estimé de cellules d’ouvrières envahies (effondrement habituel si > 30 %) | BG4: % estimé de varroas phorétiques (pour les calculs d’efficacité des traitements) | BH4: EFFICACITÉ DES TRAITEMENTS (pourcentage approximatif de réduction globale). Remarque : lorsque le pourcentage de couvain infesté approche 30 %, même avec un traitement très efficace, la colonie peut mettre longtemps à se remettre de l’épidémie de virus des ailes déformées (DWV) dans la ruche. Cette récupération dépend largement de la quantité de couvain élevée ; les chances de récupération sont donc plus faibles en fin de saison. | BN4: Les valeurs en vert correspondent aux données choisies par l’utilisateur | BP4: DATE | BQ4: Nombre saisi de cadres couverts d’abeilles adultes | BR4: Nombre calculé d’abeilles adultes | BS4: Nombre de cadres de couvain saisi | BT4: Nombre de cellules de couvain calculé* | BU4: Rapport couvain / abeilles | BV4: Nombre total calculé de nymphes | BW4: Nombre calculé de nymphes d’ouvrières parasitées | BX4: Larves de 8 jours | BY4: Durée approximative de phorésie en jours (d’après Boot) | BZ4: Cycle reproductif moyen du varroa (dans le couvain d’ouvrières) | CA4: % de varroas phorétiques | CB4: % de varroas dans le couvain | CC4: Nombre de varroas dans le couvain | CD4: Cellules de couvain operculé | CE4: % de couvain de mâles saisi, en surface | CF4: % de couvain mâle converti en proportion de cellules | CG4: % estimé des varroas reproducteurs présents dans le couvain mâle | CH4: % de l’ensemble des varroas présents dans le couvain mâle | CI4: Varroas dans le couvain de mâles | CJ4: Nombre moyen de varroas par cellule de mâle operculée | CK4: Pourcentage de cellules de mâles envahies | CL4: Nombre moyen de varroas par cellule de mâle infestée | CM4: Durée moyenne, en jours, du cycle reproductif du varroa dans le couvain mâle | CN4: Ajustement du nombre de filles selon la densité | CO4: R par cycle | CP4: Taux logarithmique quotidien r des varroas dans les cellules de mâles | CQ4: % de l’ensemble des varroas dans le couvain d’ouvrières | CR4: Cellules de couvain d’ouvrières operculé | CS4: Varroas dans le couvain d’ouvrières | CT4: Nombre moyen de varroas par cellule d’ouvrière operculée | CU4: Pourcentage de cellules d’ouvrières envahies | CV4: Nombre moyen de varroas par cellule d’ouvrière envahie | CW4: % estimé de varroas reproducteurs dans le couvain d’ouvrières | CX4: Durée moyenne, en jours, du cycle reproductif du varroa dans le couvain d’ouvrières | CY4: Ajustement du nombre de filles selon la densité | CZ4: R par cycle | DA4: Taux logarithmique quotidien r des varroas en cellules d’ouvrières | DB4: Taux logarithmique quotidien r potentiel dû à la reproduction des varroas dans le couvain (mâles et ouvrières) | DC4: Taux logarithmique quotidien r négatif dû à la mortalité des varroas | DD4: Taux logarithmique quotidien net r dû à la reproduction et à la seule mortalité naturelle | DF4: Total des varroas au début de la période | DG4: Varroas fécondés | DH4: Varroas potentiellement reproducteurs après correction pour le vieillissement | DI4: Gain net de varroas par reproduction | DJ4: Total des varroas après reproduction | DK4: Perte de varroas par mortalité naturelle | DL4: Varroas restants après la mortalité naturelle | DM4: Arrivées de varroas sélectionnées (immigration) | DN4: Nombre (négatif) de varroas emportés par les abeilles qui ne reviennent pas | DO4: Variation nette des varroas par période due à la dérive entrante et sortante | DP4: Total des varroas avant l’effet du traitement | DQ4: % du total des varroas tués par le traitement | DR4: Nombre de varroas éliminés par le traitement | DS4: Varroas restants à la fin de la période | DT4: Taux logarithmique quotidien r net pour la période | DU4: DATE | DV4: Nombre de varroas phorétiques | DW4: Taux d’infestation des abeilles adultes | DX4: Comptage par lavage à l’alcool d’environ 120 mL de jeunes abeilles (½ tasse dans l’original) | DY4: Indicateur arbitraire d’effondrement de la colonie (% de couvain infesté) | DZ4: Indicateur d’effondrement différé (comptage de varroas par lavage) | EA4: Effondrement viral si le comptage par lavage à la mi-octobre dépasse 60 malgré le traitement | EB4: Pour masquer les valeurs du tableau | EC4: Nombre approximatif d’abeilles adultes émergeant par période | ED4: Variation de la population d’abeilles adultes par période | EE4: Mortalité nette des abeilles adultes par période | EF4: Mortalité nette des abeilles adultes par jour | EG4: Coefficient multiplicateur (%) pour les varroas sur les abeilles sortantes | EH4: Perte de varroas par période sur les abeilles sorties qui ne reviennent pas | EJ4: Nouveaux varroas | EK4: Varroas âgés de plus de 75 jours | EL4: % de la population totale de varroas âgés de plus de 75 jours | EP4: Dates pour les hémisphères Nord ou Sud | ES4: Pourcentage calculé de réduction dû à un essaimage emportant 70 % des abeilles | ET4: % de Traynor × 315
BA5: =IF($AC$21="x", EQ5,EP5) -> 40544 | BB5: =IF(EB5>0,"",DF5) -> 100 | BC5: =IF(EB5>0,"",DT5) -> -0.0050125418 | BD5: =IF(EB5>0,"",DM5) -> 0 | BE5: =IF(EB5>0,"",DX5) -> 1.96875 | BF5: =IF(EB5>0,"",IF(BT5<5,"s.o.",CU5)) -> s.o. | BG5: =IF(EB5>0,"",CA5) -> 1 | BO5: Toutes les valeurs sont des moyennes pour chaque période de 15 jours | BP5: =BA5 -> 40544 | BQ5: =IF($BA$32="d",'Profils de colonie'!I31,IF($BA$32="n",'Profils de colonie'!I59,IF($BA$32="p",'Profils de colonie'!I87,IF($BA$32="a",'Profils de colonie'!I115,IF($BA$32="b",'Profils de colonie'!I143,IF($BA$32="c",'Profils de colonie'!I171,IF($BA$32="r",'Profils de colonie'!I199,IF($BA$32="s",'Profils de colonie'!I227,IF($BA$32="f",'Profils de colonie'!I255,"erreur"))))))))) -> 8 | BR5: =BQ5*$BQ$45 -> 16000 | BS5: =IF($BA$32="d",'Profils de colonie'!G31,IF($BA$32="n",'Profils de colonie'!G59,IF($BA$32="p",'Profils de colonie'!G87,IF($BA$32="a",'Profils de colonie'!G115,IF($BA$32="b",'Profils de colonie'!G143,IF($BA$32="c",'Profils de colonie'!G171,IF($BA$32="r",'Profils de colonie'!G199,IF($BA$32="s",'Profils de colonie'!G227,IF($BA$32="f",'Profils de colonie'!G255,"erreur"))))))))) -> 0 | BT5: =IF(BS5=0,1,$BQ$44*BS5) -> 1 | BU5: =IF(BR5=0,0,BT5/BR5) -> 6.25e-05 | BV5: =BT5*12/20 -> 0.6 | BW5: =CU5*BV5 -> 0 | BX5: =BT5/20 -> 0.05 | BY5: =IF(BU5=0,0.001,(-$BQ$43*LN(BU5))+$BQ$42) -> 53.40172 | BZ5: =BY5+12 -> 65.40172 | CA5: =IF(BS5=0,1,BY5/BZ5) -> 1 | CB5: =1-CA5 -> 0 | CC5: =DF5*CB5 -> 0 | CD5: =0.6*BT5 -> 0.6 | CE5: =IF($BA$32="d",'Profils de colonie'!K31,IF($BA$32="n",'Profils de colonie'!K59,IF($BA$32="p",'Profils de colonie'!K87,IF($BA$32="a",'Profils de colonie'!K115,IF($BA$32="b",'Profils de colonie'!K143,IF($BA$32="c",'Profils de colonie'!K171,IF($BA$32="r",'Profils de colonie'!K199,IF($BA$32="s",'Profils de colonie'!K199,IF($BA$32="f",'Profils de colonie'!K255,"erreur"))))))))) -> 0 | CF5: =CE5*16/25 -> 0 | CG5: =CF5*$BQ$43 -> 0 | CH5: =CG5*CB5 -> 0 | CI5: =CG5*CC5 -> 0 | CJ5: =IF(CF5=0,0,CI5/(CD5*CF5)) -> 0 | CK5: =1-(POISSON(0,CJ5,FALSE)) -> 0 | CL5: =IF(CK5=0,0,CJ5/CK5) -> 0 | CM5: =BY5+15 -> 68.40172 | CN5: 1 | CO5: =(1+($BQ$32*CN5))*$BQ$47 -> 4.275 | CP5: =LN(CO5)/14.75 -> 0.098493837 | CQ5: =1-CA5-CH5 -> 0 | CR5: =(1-CF5)*CD5 -> 0.6 | CS5: =CC5-CI5 -> 0 | CT5: =CS5/CR5 -> 0 | CU5: =1-(POISSON(0,CT5,FALSE)) -> 0 | CV5: =CT5/(CU5+0.000001) -> 0 | CW5: =1-CG5 -> 1 | CX5: =BY5+12 -> 65.40172 | CY5: 1 | CZ5: =(1+($BQ$30*CY5))*$BQ$47 -> 2.258625 | DA5: =IF(DF5>2*CR5,0,LN(CZ5)/12.5) -> 0 | DB5: =(CH5*CP5+CQ5*DA5) -> 0 | DC5: =IF(BU5>0.25,$BW$39,$BW$38) -> -0.0050125418 | DD5: =DB5+DC5 -> -0.0050125418 | DF5: =IF(OR($BA$32="n",$BA$32="p"),0,BA33) -> 100 | DG5: =DF5*$BQ$31 -> 70 | DH5: =DG5 -> 70 | DI5: =DH5*EXP(DB5*$BQ$37)-DH5 -> 0 | DJ5: =DF5+DI5 -> 100 | DK5: =DJ5-DL5 -> 7.3399167 | DL5: =DJ5*EXP((IF(BU5>0.25,$BW$39,$BW$38)*$BQ$37)) -> 92.660083 | DM5: ='Immigration de varroas'!E12 -> 0 | DP5: =DL5+DO5 -> 92.660083 | DQ5: =EK$33 -> 0 | DR5: =DP5*DQ5 -> 0 | DS5: =DP5-DR5 -> 92.660083 | DT5: =LN(DS5/DF5)/$BQ$37 -> -0.0050125418 | DU5: =BA5 -> 40544 | DV5: =DF5*CA5 -> 100 | DW5: =IF(BR5=0,0.001,DV5/BR5) -> 0.00625 | DX5: =DW5*315 -> 1.96875 | EJ5: =DF5 -> 100 | EK5: 0 | EL5: 0.5 | EP5: 40544 | EQ5: 42917
BA6: =IF($AC$21="x", EQ6,EP6) -> 40558 | BB6: =IF(EB6>0,"",DF6) -> 92.660083 | BC6: =IF(EB6>0,"",DT6) -> 0.005223327 | BD6: =IF(EB6>0,"",DM6) -> 0 | BE6: =IF(EB6>0,"",DX6) -> 1.1011522 | BF6: =IF(EB6>0,"",IF(BT6<5,"s.o.",CU6)) -> 0.052958779 | BG6: =IF(EB6>0,"",CA6) -> 0.60362064 | BH6: 0.95 | BI6: Acaricide de synthèse à haute efficacité (par exemple, amitraz appliqué pendant plusieurs semaines) | BP6: =BA6 -> 40558 | BQ6: =IF($BA$32="d",'Profils de colonie'!I32,IF($BA$32="n",'Profils de colonie'!I60,IF($BA$32="p",'Profils de colonie'!I88,IF($BA$32="a",'Profils de colonie'!I116,IF($BA$32="b",'Profils de colonie'!I144,IF($BA$32="c",'Profils de colonie'!I172,IF($BA$32="r",'Profils de colonie'!I200,IF($BA$32="s",'Profils de colonie'!I228,IF($BA$32="f",'Profils de colonie'!I256,"erreur"))))))))) -> 8 | BR6: =BQ6*$BQ$45 -> 16000 | BS6: =IF($BA$32="d",'Profils de colonie'!G32,IF($BA$32="n",'Profils de colonie'!G60,IF($BA$32="p",'Profils de colonie'!G88,IF($BA$32="a",'Profils de colonie'!G116,IF($BA$32="b",'Profils de colonie'!G144,IF($BA$32="c",'Profils de colonie'!G172,IF($BA$32="r",'Profils de colonie'!G200,IF($BA$32="s",'Profils de colonie'!G228,IF($BA$32="f",'Profils de colonie'!G256,"erreur"))))))))) -> 0.25 | BT6: =IF(BS6=0,1,$BQ$44*BS6) -> 1125 | BU6: =IF(BR6=0,0,BT6/BR6) -> 0.0703125 | BV6: =BT6*12/20 -> 675 | BW6: =CU6*BV6 -> 35.747176 | BX6: =BT6/20 -> 56.25 | BY6: =IF(BU6=0,0.001,(-$BQ$43*LN(BU6))+$BQ$42) -> 18.274028 | BZ6: =BY6+12 -> 30.274028 | CA6: =IF(BS6=0,1,BY6/BZ6) -> 0.60362064 | CB6: =1-CA6 -> 0.39637936 | CC6: =DF6*CB6 -> 36.728544 | CD6: =0.6*BT6 -> 675 | CE6: =IF($BA$32="d",'Profils de colonie'!K32,IF($BA$32="n",'Profils de colonie'!K60,IF($BA$32="p",'Profils de colonie'!K88,IF($BA$32="a",'Profils de colonie'!K116,IF($BA$32="b",'Profils de colonie'!K144,IF($BA$32="c",'Profils de colonie'!K172,IF($BA$32="r",'Profils de colonie'!K200,IF($BA$32="s",'Profils de colonie'!K200,IF($BA$32="f",'Profils de colonie'!K256,"erreur"))))))))) -> 0 | CF6: =CE6*16/25 -> 0 | CG6: =CF6*$BQ$43 -> 0 | CH6: =CG6*CB6 -> 0 | CI6: =CG6*CC6 -> 0 | CJ6: =IF(CF6=0,0,CI6/(CD6*CF6)) -> 0 | CK6: =1-(POISSON(0,CJ6,FALSE)) -> 0 | CL6: =IF(CK6=0,0,CJ6/CK6) -> 0 | CM6: =BY6+15 -> 33.274028 | CN6: 1 | CO6: =(1+($BQ$32*CN6))*$BQ$47 -> 4.275 | CP6: =LN(CO6)/14.75 -> 0.098493837 | CQ6: =1-CA6-CH6 -> 0.39637936 | CR6: =(1-CF6)*CD6 -> 675 | CS6: =CC6-CI6 -> 36.728544 | CT6: =CS6/CR6 -> 0.054412658 | CU6: =1-(POISSON(0,CT6,FALSE)) -> 0.052958779 | CV6: =CT6/(CU6+0.000001) -> 1.0274336 | CW6: =1-CG6 -> 1 | CX6: =BY6+12 -> 30.274028 | CY6: 1 | CZ6: =(1+($BQ$30*CY6))*$BQ$47 -> 2.258625 | DA6: =IF(DF6>2*CR6,0,LN(CZ6)/12.5) -> 0.065180498 | DB6: =(CH6*CP6+CQ6*DA6) -> 0.025836204 | DC6: =IF(BU6>0.25,$BW$39,$BW$38) -> -0.0050125418 | DD6: =DB6+DC6 -> 0.020823662 | DF6: =IF(OR($BA$32="n",$BA$32="p"),0,DS5) -> 92.660083 | DG6: =DF6*$BQ$31 -> 64.862058 | DH6: =DG6*(1-EL5) -> 32.431029 | DI6: =DH6*EXP(DB6*$BQ$37)-DH6 -> 15.60932 | DJ6: =DF6+DI6 -> 108.2694 | DK6: =DJ6-DL6 -> 7.946884 | DL6: =DJ6*EXP((IF(BU6>0.25,$BW$39,$BW$38)*$BQ$37)) -> 100.32252 | DM6: ='Immigration de varroas'!E13 -> 0 | DN6: =IF(EH6>DV6*EG6,-DV6*EG6,-EH6) -> -0.0014354305 | DO6: =DM6+DN6 -> -0.0014354305 | DP6: =DL6+DO6 -> 100.32108 | DQ6: =EL$33 -> 0 | DR6: =DP6*DQ6 -> 0 | DS6: =DP6-DR6 -> 100.32108 | DT6: =LN(DS6/DF6)/$BQ$37 -> 0.005223327 | DU6: =BA6 -> 40558 | DV6: =DF6*CA6 -> 55.931539 | DW6: =IF(BR6=0,0.001,DV6/BR6) -> 0.0034957212 | DX6: =DW6*315 -> 1.1011522 | EC6: =BT5*0.9/20*$BQ$37 -> 0.684375 | ED6: =BR6-BR5 -> 0 | EE6: =EC6-ED6 -> 0.684375 | EF6: =EE6/$BQ$37 -> 0.045 | EG6: =IF(DW6>0.15,1,$BQ$36) -> 0.6 | EH6: =EE6*EG6*DW6 -> 0.0014354305 | EJ6: =DI6 -> 15.60932 | EK6: 0 | EL6: =EK$60 -> 0 | EP6: 40558 | EQ6: 42931 | ET6: 5.67
BA7: =IF($AC$21="x", EQ7,EP7) -> 40575 | BB7: =IF(EB7>0,"",DF7) -> 100.32108 | BC7: =IF(EB7>0,"",DT7) -> 0.014156209 | BD7: =IF(EB7>0,"",DM7) -> 0 | BE7: =IF(EB7>0,"",DX7) -> 1.1545713 | BF7: =IF(EB7>0,"",IF(BT7<5,"s.o.",CU7)) -> 0.04569755 | BG7: =IF(EB7>0,"",CA7) -> 0.58457197 | BP7: =BA7 -> 40575 | BQ7: =IF($BA$32="d",'Profils de colonie'!I33,IF($BA$32="n",'Profils de colonie'!I61,IF($BA$32="p",'Profils de colonie'!I89,IF($BA$32="a",'Profils de colonie'!I117,IF($BA$32="b",'Profils de colonie'!I145,IF($BA$32="c",'Profils de colonie'!I173,IF($BA$32="r",'Profils de colonie'!I201,IF($BA$32="s",'Profils de colonie'!I229,IF($BA$32="f",'Profils de colonie'!I257,"erreur"))))))))) -> 8 | BR7: =BQ7*$BQ$45 -> 16000 | BS7: =IF($BA$32="d",'Profils de colonie'!G33,IF($BA$32="n",'Profils de colonie'!G61,IF($BA$32="p",'Profils de colonie'!G89,IF($BA$32="a",'Profils de colonie'!G117,IF($BA$32="b",'Profils de colonie'!G145,IF($BA$32="c",'Profils de colonie'!G173,IF($BA$32="r",'Profils de colonie'!G201,IF($BA$32="s",'Profils de colonie'!G229,IF($BA$32="f",'Profils de colonie'!G257,"erreur"))))))))) -> 0.33 | BT7: =IF(BS7=0,1,$BQ$44*BS7) -> 1485 | BU7: =IF(BR7=0,0,BT7/BR7) -> 0.0928125 | BV7: =BT7*12/20 -> 891 | BW7: =CU7*BV7 -> 40.716517 | BX7: =BT7/20 -> 74.25 | BY7: =IF(BU7=0,0.001,(-$BQ$43*LN(BU7))+$BQ$42) -> 16.88587 | BZ7: =BY7+12 -> 28.88587 | CA7: =IF(BS7=0,1,BY7/BZ7) -> 0.58457197 | CB7: =1-CA7 -> 0.41542803 | CC7: =DF7*CB7 -> 41.67619 | CD7: =0.6*BT7 -> 891 | CE7: =IF($BA$32="d",'Profils de colonie'!K33,IF($BA$32="n",'Profils de colonie'!K61,IF($BA$32="p",'Profils de colonie'!K89,IF($BA$32="a",'Profils de colonie'!K117,IF($BA$32="b",'Profils de colonie'!K145,IF($BA$32="c",'Profils de colonie'!K173,IF($BA$32="r",'Profils de colonie'!K201,IF($BA$32="s",'Profils de colonie'!K201,IF($BA$32="f",'Profils de colonie'!K257,"erreur"))))))))) -> 0 | CF7: =CE7*16/25 -> 0 | CG7: =CF7*$BQ$43 -> 0 | CH7: =CG7*CB7 -> 0 | CI7: =CG7*CC7 -> 0 | CJ7: =IF(CF7=0,0,CI7/(CD7*CF7)) -> 0 | CK7: =1-(POISSON(0,CJ7,FALSE)) -> 0 | CL7: =IF(CK7=0,0,CJ7/CK7) -> 0 | CM7: =BY7+15 -> 31.88587 | CN7: 1 | CO7: =(1+($BQ$32*CN7))*$BQ$47 -> 4.275 | CP7: =LN(CO7)/14.75 -> 0.098493837 | CQ7: =1-CA7-CH7 -> 0.41542803 | CR7: =(1-CF7)*CD7 -> 891 | CS7: =CC7-CI7 -> 41.67619 | CT7: =CS7/CR7 -> 0.046774624 | CU7: =1-(POISSON(0,CT7,FALSE)) -> 0.04569755 | CV7: =CT7/(CU7+0.000001) -> 1.0235472 | CW7: =1-CG7 -> 1 | CX7: =BY7+12 -> 28.88587 | CY7: 1 | CZ7: =(1+($BQ$30*CY7))*$BQ$47 -> 2.258625 | DA7: =IF(DF7>2*CR7,0,LN(CZ7)/12.5) -> 0.065180498 | DB7: =(CH7*CP7+CQ7*DA7) -> 0.027077806 | DC7: =IF(BU7>0.25,$BW$39,$BW$38) -> -0.0050125418 | DD7: =DB7+DC7 -> 0.022065264 | DF7: =IF(OR($BA$32="n",$BA$32="p"),0,DS6) -> 100.32108 | DG7: =DF7*$BQ$31 -> 70.224758 | DH7: =DG7*(1-EL6) -> 70.224758 | DI7: =DH7*EXP(DB7*$BQ$37)-DH7 -> 35.782676 | DJ7: =DF7+DI7 -> 136.10376 | DK7: =DJ7-DL7 -> 9.9899026 | DL7: =DJ7*EXP((IF(BU7>0.25,$BW$39,$BW$38)*$BQ$37)) -> 126.11386 | DM7: ='Immigration de varroas'!E14 -> 0 | DN7: =IF(EH7>DV7*EG7,-DV7*EG7,-EH7) -> -1.6931995 | DO7: =DM7+DN7 -> -1.6931995 | DP7: =DL7+DO7 -> 124.42066 | DQ7: =EM$33 -> 0 | DR7: =DP7*DQ7 -> 0 | DS7: =DP7-DR7 -> 124.42066 | DT7: =LN(DS7/DF7)/$BQ$37 -> 0.014156209 | DU7: =BA7 -> 40575 | DV7: =DF7*CA7 -> 58.644893 | DW7: =IF(BR7=0,0.001,DV7/BR7) -> 0.0036653058 | DX7: =DW7*315 -> 1.1545713 | DY7: =IF((BS7<0.25),DY6,IF(DY6=100,100,IF(CU5>$AI$52,100,""))) | DZ7: =IF(DZ6=100,100,IF(BT7<100,IF((DX5+DX6)>$AI$53,100,""),"")) | EB7: =SUM(DY7:EA7) -> 0 | EC7: =BT6*0.9/20*$BQ$37 -> 769.92188 | ED7: =BR7-BR6 -> 0 | EE7: =EC7-ED7 -> 769.92188 | EF7: =EE7/$BQ$37 -> 50.625 | EG7: =IF(DW7>0.15,1,$BQ$36) -> 0.6 | EH7: =EE7*EG7*DW7 -> 1.6931995 | EJ7: =DI7 -> 35.782676 | EK7: 0 | EL7: =EL$60 -> 0 | EP7: 40575 | EQ7: 42948
BA8: =IF($AC$21="x", EQ8,EP8) -> 40589 | BB8: =IF(EB8>0,"",DF8) -> 124.42066 | BC8: =IF(EB8>0,"",DT8) -> 0.015990546 | BD8: =IF(EB8>0,"",DM8) -> 0 | BE8: =IF(EB8>0,"",DX8) -> 1.4063098 | BF8: =IF(EB8>0,"",IF(BT8<5,"s.o.",CU8)) -> 0.030114048 | BG8: =IF(EB8>0,"",CA8) -> 0.50234953 | BH8: 0.9 | BI8: Deux traitements de 50 g d’Apiguard à 10 jours d’intervalle, dans une rehausse | BP8: =BA8 -> 40589 | BQ8: =IF($BA$32="d",'Profils de colonie'!I34,IF($BA$32="n",'Profils de colonie'!I62,IF($BA$32="p",'Profils de colonie'!I90,IF($BA$32="a",'Profils de colonie'!I118,IF($BA$32="b",'Profils de colonie'!I146,IF($BA$32="c",'Profils de colonie'!I174,IF($BA$32="r",'Profils de colonie'!I202,IF($BA$32="s",'Profils de colonie'!I230,IF($BA$32="f",'Profils de colonie'!I258,"erreur"))))))))) -> 7 | BR8: =BQ8*$BQ$45 -> 14000 | BS8: =IF($BA$32="d",'Profils de colonie'!G34,IF($BA$32="n",'Profils de colonie'!G62,IF($BA$32="p",'Profils de colonie'!G90,IF($BA$32="a",'Profils de colonie'!G118,IF($BA$32="b",'Profils de colonie'!G146,IF($BA$32="c",'Profils de colonie'!G174,IF($BA$32="r",'Profils de colonie'!G202,IF($BA$32="s",'Profils de colonie'!G230,IF($BA$32="f",'Profils de colonie'!G258,"erreur"))))))))) -> 0.75 | BT8: =IF(BS8=0,1,$BQ$44*BS8) -> 3375 | BU8: =IF(BR8=0,0,BT8/BR8) -> 0.24107143 | BV8: =BT8*12/20 -> 2025 | BW8: =CU8*BV8 -> 60.980947 | BX8: =BT8/20 -> 168.75 | BY8: =IF(BU8=0,0.001,(-$BQ$43*LN(BU8))+$BQ$42) -> 12.11331 | BZ8: =BY8+12 -> 24.11331 | CA8: =IF(BS8=0,1,BY8/BZ8) -> 0.50234953 | CB8: =1-CA8 -> 0.49765047 | CC8: =DF8*CB8 -> 61.917998 | CD8: =0.6*BT8 -> 2025 | CE8: =IF($BA$32="d",'Profils de colonie'!K34,IF($BA$32="n",'Profils de colonie'!K62,IF($BA$32="p",'Profils de colonie'!K90,IF($BA$32="a",'Profils de colonie'!K118,IF($BA$32="b",'Profils de colonie'!K146,IF($BA$32="c",'Profils de colonie'!K174,IF($BA$32="r",'Profils de colonie'!K202,IF($BA$32="s",'Profils de colonie'!K202,IF($BA$32="f",'Profils de colonie'!K258,"erreur"))))))))) -> 0 | CF8: =CE8*16/25 -> 0 | CG8: =CF8*$BQ$43 -> 0 | CH8: =CG8*CB8 -> 0 | CI8: =CG8*CC8 -> 0 | CJ8: =IF(CF8=0,0,CI8/(CD8*CF8)) -> 0 | CK8: =1-(POISSON(0,CJ8,FALSE)) -> 0 | CL8: =IF(CK8=0,0,CJ8/CK8) -> 0 | CM8: =BY8+15 -> 27.11331 | CN8: 1 | CO8: =(1+($BQ$32*CN8))*$BQ$47 -> 4.275 | CP8: =LN(CO8)/14.75 -> 0.098493837 | CQ8: =1-CA8-CH8 -> 0.49765047 | CR8: =(1-CF8)*CD8 -> 2025 | CS8: =CC8-CI8 -> 61.917998 | CT8: =CS8/CR8 -> 0.030576789 | CU8: =1-(POISSON(0,CT8,FALSE)) -> 0.030114048 | CV8: =CT8/(CU8+0.000001) -> 1.0153326 | CW8: =1-CG8 -> 1 | CX8: =BY8+12 -> 24.11331 | CY8: 1 | CZ8: =(1+($BQ$30*CY8))*$BQ$47 -> 2.258625 | DA8: =IF(DF8>2*CR8,0,LN(CZ8)/12.5) -> 0.065180498 | DB8: =(CH8*CP8+CQ8*DA8) -> 0.032437105 | DC8: =IF(BU8>0.25,$BW$39,$BW$38) -> -0.0050125418 | DD8: =DB8+DC8 -> 0.027424563 | DF8: =IF(OR($BA$32="n",$BA$32="p"),0,DS7) -> 124.42066 | DG8: =DF8*$BQ$31 -> 87.09446 | DH8: =DG8*(1-EL7) -> 87.09446 | DI8: =DH8*EXP(DB8*$BQ$37)-DH8 -> 55.543202 | DJ8: =DF8+DI8 -> 179.96386 | DK8: =DJ8-DL8 -> 13.209197 | DL8: =DJ8*EXP((IF(BU8>0.25,$BW$39,$BW$38)*$BQ$37)) -> 166.75466 | DM8: ='Immigration de varroas'!E15 -> 0 | DN8: =IF(EH8>DV8*EG8,-DV8*EG8,-EH8) -> -8.0797104 | DO8: =DM8+DN8 -> -8.0797104 | DP8: =DL8+DO8 -> 158.67495 | DQ8: =EN$33 -> 0 | DR8: =DP8*DQ8 -> 0 | DS8: =DP8-DR8 -> 158.67495 | DT8: =LN(DS8/DF8)/$BQ$37 -> 0.015990546 | DU8: =BA8 -> 40589 | DV8: =DF8*CA8 -> 62.502659 | DW8: =IF(BR8=0,0.001,DV8/BR8) -> 0.0044644757 | DX8: =DW8*315 -> 1.4063098 | DY8: =IF((BS8<0.25),DY7,IF(DY7=100,100,IF(CU6>$AI$52,100,""))) | DZ8: =IF(DZ7=100,100,IF(BT8<100,IF((DX6+DX7)>$AI$53,100,""),"")) | EB8: =SUM(DY8:EA8) -> 0 | EC8: =BT7*0.9/20*$BQ$37 -> 1016.2969 | ED8: =BR8-BR7 -> -2000 | EE8: =EC8-ED8 -> 3016.2969 | EF8: =EE8/$BQ$37 -> 198.33185 | EG8: =IF(DW8>0.15,1,$BQ$36) -> 0.6 | EH8: =EE8*EG8*DW8 -> 8.0797104 | EJ8: =DI8 -> 55.543202 | EK8: 0 | EL8: =EM$60 -> 0 | EP8: 40589 | EQ8: 42962 | ET8: 6.3
BA9: =IF($AC$21="x", EQ9,EP9) -> 40603 | BB9: =IF(EB9>0,"",DF9) -> 158.67495 | BC9: =IF(EB9>0,"",DT9) -> 0.018623555 | BD9: =IF(EB9>0,"",DM9) -> 0 | BE9: =IF(EB9>0,"",DX9) -> 1.680774 | BF9: =IF(EB9>0,"",IF(BT9<5,"s.o.",CU9)) -> 0.030622765 | BG9: =IF(EB9>0,"",CA9) -> 0.47078046 | BP9: =BA9 -> 40603 | BQ9: =IF($BA$32="d",'Profils de colonie'!I35,IF($BA$32="n",'Profils de colonie'!I63,IF($BA$32="p",'Profils de colonie'!I91,IF($BA$32="a",'Profils de colonie'!I119,IF($BA$32="b",'Profils de colonie'!I147,IF($BA$32="c",'Profils de colonie'!I175,IF($BA$32="r",'Profils de colonie'!I203,IF($BA$32="s",'Profils de colonie'!I231,IF($BA$32="f",'Profils de colonie'!I259,"erreur"))))))))) -> 7 | BR9: =BQ9*$BQ$45 -> 14000 | BS9: =IF($BA$32="d",'Profils de colonie'!G35,IF($BA$32="n",'Profils de colonie'!G63,IF($BA$32="p",'Profils de colonie'!G91,IF($BA$32="a",'Profils de colonie'!G119,IF($BA$32="b",'Profils de colonie'!G147,IF($BA$32="c",'Profils de colonie'!G175,IF($BA$32="r",'Profils de colonie'!G203,IF($BA$32="s",'Profils de colonie'!G231,IF($BA$32="f",'Profils de colonie'!G259,"erreur"))))))))) -> 1 | BT9: =IF(BS9=0,1,$BQ$44*BS9) -> 4500 | BU9: =IF(BR9=0,0,BT9/BR9) -> 0.32142857 | BV9: =BT9*12/20 -> 2700 | BW9: =CU9*BV9 -> 82.681464 | BX9: =BT9/20 -> 225 | BY9: =IF(BU9=0,0.001,(-$BQ$43*LN(BU9))+$BQ$42) -> 10.6749 | BZ9: =BY9+12 -> 22.6749 | CA9: =IF(BS9=0,1,BY9/BZ9) -> 0.47078046 | CB9: =1-CA9 -> 0.52921954 | CC9: =DF9*CB9 -> 83.973885 | CD9: =0.6*BT9 -> 2700 | CE9: =IF($BA$32="d",'Profils de colonie'!K35,IF($BA$32="n",'Profils de colonie'!K63,IF($BA$32="p",'Profils de colonie'!K91,IF($BA$32="a",'Profils de colonie'!K119,IF($BA$32="b",'Profils de colonie'!K147,IF($BA$32="c",'Profils de colonie'!K175,IF($BA$32="r",'Profils de colonie'!K203,IF($BA$32="s",'Profils de colonie'!K203,IF($BA$32="f",'Profils de colonie'!K259,"erreur"))))))))) -> 0 | CF9: =CE9*16/25 -> 0 | CG9: =CF9*$BQ$43 -> 0 | CH9: =CG9*CB9 -> 0 | CI9: =CG9*CC9 -> 0 | CJ9: =IF(CF9=0,0,CI9/(CD9*CF9)) -> 0 | CK9: =1-(POISSON(0,CJ9,FALSE)) -> 0 | CL9: =IF(CK9=0,0,CJ9/CK9) -> 0 | CM9: =BY9+15 -> 25.6749 | CN9: 1 | CO9: =(1+($BQ$32*CN9))*$BQ$47 -> 4.275 | CP9: =LN(CO9)/14.75 -> 0.098493837 | CQ9: =1-CA9-CH9 -> 0.52921954 | CR9: =(1-CF9)*CD9 -> 2700 | CS9: =CC9-CI9 -> 83.973885 | CT9: =CS9/CR9 -> 0.031101439 | CU9: =1-(POISSON(0,CT9,FALSE)) -> 0.030622765 | CV9: =CT9/(CU9+0.000001) -> 1.0155982 | CW9: =1-CG9 -> 1 | CX9: =BY9+12 -> 22.6749 | CY9: 1 | CZ9: =(1+($BQ$30*CY9))*$BQ$47 -> 2.258625 | DA9: =IF(DF9>2*CR9,0,LN(CZ9)/12.5) -> 0.065180498 | DB9: =(CH9*CP9+CQ9*DA9) -> 0.034494793 | DC9: =IF(BU9>0.25,$BW$39,$BW$38) -> -0.0050125418 | DD9: =DB9+DC9 -> 0.029482251 | DF9: =IF(OR($BA$32="n",$BA$32="p"),0,DS8) -> 158.67495 | DG9: =DF9*$BQ$31 -> 111.07247 | DH9: =DG9*(1-EL8) -> 111.07247 | DI9: =DH9*EXP(DB9*$BQ$37)-DH9 -> 76.617437 | DJ9: =DF9+DI9 -> 235.29239 | DK9: =DJ9-DL9 -> 17.270265 | DL9: =DJ9*EXP((IF(BU9>0.25,$BW$39,$BW$38)*$BQ$37)) -> 218.02212 | DM9: ='Immigration de varroas'!E16 -> 0 | DN9: =IF(EH9>DV9*EG9,-DV9*EG9,-EH9) -> -7.3946553 | DO9: =DM9+DN9 -> -7.3946553 | DP9: =DL9+DO9 -> 210.62747 | DQ9: =EO$33 -> 0 | DR9: =DP9*DQ9 -> 0 | DS9: =DP9-DR9 -> 210.62747 | DT9: =LN(DS9/DF9)/$BQ$37 -> 0.018623555 | DU9: =BA9 -> 40603 | DV9: =DF9*CA9 -> 74.701067 | DW9: =IF(BR9=0,0.001,DV9/BR9) -> 0.0053357905 | DX9: =DW9*315 -> 1.680774 | DY9: =IF((BS9<0.25),DY8,IF(DY8=100,100,IF(CU7>$AI$52,100,""))) | DZ9: =IF(DZ8=100,100,IF(BT9<100,IF((DX7+DX8)>$AI$53,100,""),"")) | EB9: =SUM(DY9:EA9) -> 0 | EC9: =BT8*0.9/20*$BQ$37 -> 2309.7656 | ED9: =BR9-BR8 -> 0 | EE9: =EC9-ED9 -> 2309.7656 | EF9: =EE9/$BQ$37 -> 151.875 | EG9: =IF(DW9>0.15,1,$BQ$36) -> 0.6 | EH9: =EE9*EG9*DW9 -> 7.3946553 | EJ9: =DI9 -> 76.617437 | EK9: 0 | EL9: =EN$60 -> 0 | EP9: 40603 | EQ9: 42979
BA10: =IF($AC$21="x", EQ10,EP10) -> 40617 | BB10: =IF(EB10>0,"",DF10) -> 210.62747 | BC10: =IF(EB10>0,"",DT10) -> 0.023321869 | BD10: =IF(EB10>0,"",DM10) -> 0 | BE10: =IF(EB10>0,"",DX10) -> 1.930632 | BF10: =IF(EB10>0,"",IF(BT10<5,"s.o.",CU10)) -> 0.025065615 | BG10: =IF(EB10>0,"",CA10) -> 0.34918468 | BH10: 0.9 | BI10: Traitement puissant à l’acide formique (diffusion progressive ou traitement flash intensif) | BP10: =BA10 -> 40617 | BQ10: =IF($BA$32="d",'Profils de colonie'!I36,IF($BA$32="n",'Profils de colonie'!I64,IF($BA$32="p",'Profils de colonie'!I92,IF($BA$32="a",'Profils de colonie'!I120,IF($BA$32="b",'Profils de colonie'!I148,IF($BA$32="c",'Profils de colonie'!I176,IF($BA$32="r",'Profils de colonie'!I204,IF($BA$32="s",'Profils de colonie'!I232,IF($BA$32="f",'Profils de colonie'!I260,"erreur"))))))))) -> 6 | BR10: =BQ10*$BQ$45 -> 12000 | BS10: =IF($BA$32="d",'Profils de colonie'!G36,IF($BA$32="n",'Profils de colonie'!G64,IF($BA$32="p",'Profils de colonie'!G92,IF($BA$32="a",'Profils de colonie'!G120,IF($BA$32="b",'Profils de colonie'!G148,IF($BA$32="c",'Profils de colonie'!G176,IF($BA$32="r",'Profils de colonie'!G204,IF($BA$32="s",'Profils de colonie'!G232,IF($BA$32="f",'Profils de colonie'!G260,"erreur"))))))))) -> 2 | BT10: =IF(BS10=0,1,$BQ$44*BS10) -> 9000 | BU10: =IF(BR10=0,0,BT10/BR10) -> 0.75 | BV10: =BT10*12/20 -> 5400 | BW10: =CU10*BV10 -> 135.35432 | BX10: =BT10/20 -> 450 | BY10: =IF(BU10=0,0.001,(-$BQ$43*LN(BU10))+$BQ$42) -> 6.4384104 | BZ10: =BY10+12 -> 18.43841 | CA10: =IF(BS10=0,1,BY10/BZ10) -> 0.34918468 | CB10: =1-CA10 -> 0.65081532 | CC10: =DF10*CB10 -> 137.07958 | CD10: =0.6*BT10 -> 5400 | CE10: =IF($BA$32="d",'Profils de colonie'!K36,IF($BA$32="n",'Profils de colonie'!K64,IF($BA$32="p",'Profils de colonie'!K92,IF($BA$32="a",'Profils de colonie'!K120,IF($BA$32="b",'Profils de colonie'!K148,IF($BA$32="c",'Profils de colonie'!K176,IF($BA$32="r",'Profils de colonie'!K204,IF($BA$32="s",'Profils de colonie'!K204,IF($BA$32="f",'Profils de colonie'!K260,"erreur"))))))))) -> 0 | CF10: =CE10*16/25 -> 0 | CG10: =CF10*$BQ$43 -> 0 | CH10: =CG10*CB10 -> 0 | CI10: =CG10*CC10 -> 0 | CJ10: =IF(CF10=0,0,CI10/(CD10*CF10)) -> 0 | CK10: =1-(POISSON(0,CJ10,FALSE)) -> 0 | CL10: =IF(CK10=0,0,CJ10/CK10) -> 0 | CM10: =BY10+15 -> 21.43841 | CN10: 1 | CO10: =(1+($BQ$32*CN10))*$BQ$47 -> 4.275 | CP10: =LN(CO10)/14.75 -> 0.098493837 | CQ10: =1-CA10-CH10 -> 0.65081532 | CR10: =(1-CF10)*CD10 -> 5400 | CS10: =CC10-CI10 -> 137.07958 | CT10: =CS10/CR10 -> 0.025385108 | CU10: =1-(POISSON(0,CT10,FALSE)) -> 0.025065615 | CV10: =CT10/(CU10+0.000001) -> 1.0127059 | CW10: =1-CG10 -> 1 | CX10: =BY10+12 -> 18.43841 | CY10: 1 | CZ10: =(1+($BQ$30*CY10))*$BQ$47 -> 2.258625 | DA10: =IF(DF10>2*CR10,0,LN(CZ10)/12.5) -> 0.065180498 | DB10: =(CH10*CP10+CQ10*DA10) -> 0.042420467 | DC10: =IF(BU10>0.25,$BW$39,$BW$38) -> -0.0050125418 | DD10: =DB10+DC10 -> 0.037407925 | DF10: =IF(OR($BA$32="n",$BA$32="p"),0,DS9) -> 210.62747 | DG10: =DF10*$BQ$31 -> 147.43923 | DH10: =DG10*(1-EL9) -> 147.43923 | DI10: =DH10*EXP(DB10*$BQ$37)-DH10 -> 133.61867 | DJ10: =DF10+DI10 -> 344.24613 | DK10: =DJ10-DL10 -> 25.267379 | DL10: =DJ10*EXP((IF(BU10>0.25,$BW$39,$BW$38)*$BQ$37)) -> 318.97875 | DM10: ='Immigration de varroas'!E17 -> 0 | DN10: =IF(EH10>DV10*EG10,-DV10*EG10,-EH10) -> -18.680013 | DO10: =DM10+DN10 -> -18.680013 | DP10: =DL10+DO10 -> 300.29874 | DQ10: =EP$33 -> 0 | DR10: =DP10*DQ10 -> 0 | DS10: =DP10-DR10 -> 300.29874 | DT10: =LN(DS10/DF10)/$BQ$37 -> 0.023321869 | DU10: =BA10 -> 40617 | DV10: =DF10*CA10 -> 73.547885 | DW10: =IF(BR10=0,0.001,DV10/BR10) -> 0.0061289904 | DX10: =DW10*315 -> 1.930632 | DY10: =IF((BS10<0.25),DY9,IF(DY9=100,100,IF(CU8>$AI$52,100,""))) | DZ10: =IF(DZ9=100,100,IF(BT10<100,IF((DX8+DX9)>$AI$53,100,""),"")) | EB10: =SUM(DY10:EA10) -> 0 | EC10: =BT9*0.9/20*$BQ$37 -> 3079.6875 | ED10: =BR10-BR9 -> -2000 | EE10: =EC10-ED10 -> 5079.6875 | EF10: =EE10/$BQ$37 -> 334.00685 | EG10: =IF(DW10>0.15,1,$BQ$36) -> 0.6 | EH10: =EE10*EG10*DW10 -> 18.680013 | EJ10: =DI10 -> 133.61867 | EK10: =EP$58 -> 68.664309 | EL10: =EO$60 -> 0 | EP10: 40617 | EQ10: 42993 | ET10: 10.08
BA11: =IF($AC$21="x", EQ11,EP11) -> 40634 | BB11: =IF(EB11>0,"",DF11) -> 300.29874 | BC11: =IF(EB11>0,"",DT11) -> 0.03018934 | BD11: =IF(EB11>0,"",DM11) -> 0 | BE11: =IF(EB11>0,"",DX11) -> 2.1188048 | BF11: =IF(EB11>0,"",IF(BT11<5,"s.o.",CU11)) -> 0.02467664 | BG11: =IF(EB11>0,"",CA11) -> 0.26878691 | BP11: =BA11 -> 40634 | BQ11: =IF($BA$32="d",'Profils de colonie'!I37,IF($BA$32="n",'Profils de colonie'!I65,IF($BA$32="p",'Profils de colonie'!I93,IF($BA$32="a",'Profils de colonie'!I121,IF($BA$32="b",'Profils de colonie'!I149,IF($BA$32="c",'Profils de colonie'!I177,IF($BA$32="r",'Profils de colonie'!I205,IF($BA$32="s",'Profils de colonie'!I233,IF($BA$32="f",'Profils de colonie'!I261,"erreur"))))))))) -> 6 | BR11: =BQ11*$BQ$45 -> 12000 | BS11: =IF($BA$32="d",'Profils de colonie'!G37,IF($BA$32="n",'Profils de colonie'!G65,IF($BA$32="p",'Profils de colonie'!G93,IF($BA$32="a",'Profils de colonie'!G121,IF($BA$32="b",'Profils de colonie'!G149,IF($BA$32="c",'Profils de colonie'!G177,IF($BA$32="r",'Profils de colonie'!G205,IF($BA$32="s",'Profils de colonie'!G233,IF($BA$32="f",'Profils de colonie'!G261,"erreur"))))))))) -> 3 | BT11: =IF(BS11=0,1,$BQ$44*BS11) -> 13500 | BU11: =IF(BR11=0,0,BT11/BR11) -> 1.125 | BV11: =BT11*12/20 -> 8100 | BW11: =CU11*BV11 -> 199.88079 | BX11: =BT11/20 -> 675 | BY11: =IF(BU11=0,0.001,(-$BQ$43*LN(BU11))+$BQ$42) -> 4.4110848 | BZ11: =BY11+12 -> 16.411085 | CA11: =IF(BS11=0,1,BY11/BZ11) -> 0.26878691 | CB11: =1-CA11 -> 0.73121309 | CC11: =DF11*CB11 -> 219.58237 | CD11: =0.6*BT11 -> 8100 | CE11: =IF($BA$32="d",'Profils de colonie'!K37,IF($BA$32="n",'Profils de colonie'!K65,IF($BA$32="p",'Profils de colonie'!K93,IF($BA$32="a",'Profils de colonie'!K121,IF($BA$32="b",'Profils de colonie'!K149,IF($BA$32="c",'Profils de colonie'!K177,IF($BA$32="r",'Profils de colonie'!K205,IF($BA$32="s",'Profils de colonie'!K205,IF($BA$32="f",'Profils de colonie'!K261,"erreur"))))))))) -> 0.03 | CF11: =CE11*16/25 -> 0.0192 | CG11: =CF11*$BQ$43 -> 0.096 | CH11: =CG11*CB11 -> 0.070196456 | CI11: =CG11*CC11 -> 21.079907 | CJ11: =IF(CF11=0,0,CI11/(CD11*CF11)) -> 0.13554467 | CK11: =1-(POISSON(0,CJ11,FALSE)) -> 0.12675985 | CL11: =IF(CK11=0,0,CJ11/CK11) -> 1.0693029 | CM11: =BY11+15 -> 19.411085 | CN11: 1 | CO11: =(1+($BQ$32*CN11))*$BQ$47 -> 4.275 | CP11: =LN(CO11)/14.75 -> 0.098493837 | CQ11: =1-CA11-CH11 -> 0.66101663 | CR11: =(1-CF11)*CD11 -> 7944.48 | CS11: =CC11-CI11 -> 198.50246 | CT11: =CS11/CR11 -> 0.024986212 | CU11: =1-(POISSON(0,CT11,FALSE)) -> 0.02467664 | CV11: =CT11/(CU11+0.000001) -> 1.0125041 | CW11: =1-CG11 -> 0.904 | CX11: =BY11+12 -> 16.411085 | CY11: 1 | CZ11: =(1+($BQ$30*CY11))*$BQ$47 -> 2.258625 | DA11: =IF(DF11>2*CR11,0,LN(CZ11)/12.5) -> 0.065180498 | DB11: =(CH11*CP11+CQ11*DA11) -> 0.049999311 | DC11: =IF(BU11>0.25,$BW$39,$BW$38) -> -0.0050125418 | DD11: =DB11+DC11 -> 0.04498677 | DF11: =IF(OR($BA$32="n",$BA$32="p"),BA33,DS10) -> 300.29874 | DG11: =DF11*$BQ$31 -> 210.20912 | DH11: =IF(OR($BA$32="n",$BA$32="p"),(DG11*(1-0.5)),(DG11*(1-EL10))) -> 210.20912 | DI11: =DH11*EXP(DB11*$BQ$37)-DH11 -> 239.45866 | DJ11: =DF11+DI11 -> 539.7574 | DK11: =DJ11-DL11 -> 39.617743 | DL11: =DJ11*EXP((IF(BU11>0.25,$BW$39,$BW$38)*$BQ$37)) -> 500.13965 | DM11: ='Immigration de varroas'!E18 -> 0 | DN11: =IF(EH11>DV11*EG11,-DV11*EG11,-EH11) -> -24.85812 | DO11: =DM11+DN11 -> -24.85812 | DP11: =DL11+DO11 -> 475.28153 | DQ11: =EQ$33 -> 0 | DR11: =DP11*DQ11 -> 0 | DS11: =DP11-DR11 -> 475.28153 | DT11: =LN(DS11/DF11)/$BQ$37 -> 0.03018934 | DU11: =BA11 -> 40634 | DV11: =DF11*CA11 -> 80.716372 | DW11: =IF(BR11=0,0.001,DV11/BR11) -> 0.0067263643 | DX11: =DW11*315 -> 2.1188048 | DY11: =IF((BS11<0.25),DY10,IF(DY10=100,100,IF(CU9>$AI$52,100,""))) | DZ11: =IF(DZ10=100,100,IF(BT11<100,IF((DX9+DX10)>$AI$53,100,""),"")) | EB11: =SUM(DY11:EA11) -> 0 | EC11: =BT10*0.9/20*$BQ$37 -> 6159.375 | ED11: =BR11-BR10 -> 0 | EE11: =EC11-ED11 -> 6159.375 | EF11: =EE11/$BQ$37 -> 405 | EG11: =IF(DW11>0.15,1,$BQ$36) -> 0.6 | EH11: =EE11*EG11*DW11 -> 24.85812 | EJ11: =DI11 -> 239.45866 | EK11: =EQ$58 -> 74.408914 | EL11: =IF(OR($BA$32="n",$BA$32="p"),0.15,EP60) -> 0.19007352 | EP11: 40634 | EQ11: 43009
BA12: =IF($AC$21="x", EQ12,EP12) -> 40648 | BB12: =IF(EB12>0,"",DF12) -> 475.28153 | BC12: =IF(EB12>0,"",DT12) -> 0.030616146 | BD12: =IF(EB12>0,"",DM12) -> 0 | BE12: =IF(EB12>0,"",DX12) -> 2.0159762 | BF12: =IF(EB12>0,"",IF(BT12<5,"s.o.",CU12)) -> 0.02294169 | BG12: =IF(EB12>0,"",CA12) -> 0.21544871 | BH12: 0.5 | BI12: Traitement unique, de faible intensité, à l’acide formique pour une réduction rapide | BP12: =BA12 -> 40648 | BQ12: =IF($BA$32="d",'Profils de colonie'!I38,IF($BA$32="n",'Profils de colonie'!I66,IF($BA$32="p",'Profils de colonie'!I94,IF($BA$32="a",'Profils de colonie'!I122,IF($BA$32="b",'Profils de colonie'!I150,IF($BA$32="c",'Profils de colonie'!I178,IF($BA$32="r",'Profils de colonie'!I206,IF($BA$32="s",'Profils de colonie'!I234,IF($BA$32="f",'Profils de colonie'!I262,"erreur"))))))))) -> 8 | BR12: =BQ12*$BQ$45 -> 16000 | BS12: =IF($BA$32="d",'Profils de colonie'!G38,IF($BA$32="n",'Profils de colonie'!G66,IF($BA$32="p",'Profils de colonie'!G94,IF($BA$32="a",'Profils de colonie'!G122,IF($BA$32="b",'Profils de colonie'!G150,IF($BA$32="c",'Profils de colonie'!G178,IF($BA$32="r",'Profils de colonie'!G206,IF($BA$32="s",'Profils de colonie'!G234,IF($BA$32="f",'Profils de colonie'!G262,"erreur"))))))))) -> 5 | BT12: =IF(BS12=0,1,$BQ$44*BS12) -> 22500 | BU12: =IF(BR12=0,0,BT12/BR12) -> 1.40625 | BV12: =BT12*12/20 -> 13500 | BW12: =CU12*BV12 -> 309.71282 | BX12: =BT12/20 -> 1125 | BY12: =IF(BU12=0,0.001,(-$BQ$43*LN(BU12))+$BQ$42) -> 3.2953671 | BZ12: =BY12+12 -> 15.295367 | CA12: =IF(BS12=0,1,BY12/BZ12) -> 0.21544871 | CB12: =1-CA12 -> 0.78455129 | CC12: =DF12*CB12 -> 372.88274 | CD12: =0.6*BT12 -> 13500 | CE12: =IF($BA$32="d",'Profils de colonie'!K38,IF($BA$32="n",'Profils de colonie'!K66,IF($BA$32="p",'Profils de colonie'!K94,IF($BA$32="a",'Profils de colonie'!K122,IF($BA$32="b",'Profils de colonie'!K150,IF($BA$32="c",'Profils de colonie'!K178,IF($BA$32="r",'Profils de colonie'!K206,IF($BA$32="s",'Profils de colonie'!K206,IF($BA$32="f",'Profils de colonie'!K262,"erreur"))))))))) -> 0.06 | CF12: =CE12*16/25 -> 0.0384 | CG12: =CF12*$BQ$43 -> 0.192 | CH12: =CG12*CB12 -> 0.15063385 | CI12: =CG12*CC12 -> 71.593486 | CJ12: =IF(CF12=0,0,CI12/(CD12*CF12)) -> 0.13810472 | CK12: =1-(POISSON(0,CJ12,FALSE)) -> 0.12899252 | CL12: =IF(CK12=0,0,CJ12/CK12) -> 1.0706413 | CM12: =BY12+15 -> 18.295367 | CN12: 1 | CO12: =(1+($BQ$32*CN12))*$BQ$47 -> 4.275 | CP12: =LN(CO12)/14.75 -> 0.098493837 | CQ12: =1-CA12-CH12 -> 0.63391744 | CR12: =(1-CF12)*CD12 -> 12981.6 | CS12: =CC12-CI12 -> 301.28926 | CT12: =CS12/CR12 -> 0.023208946 | CU12: =1-(POISSON(0,CT12,FALSE)) -> 0.02294169 | CV12: =CT12/(CU12+0.000001) -> 1.0116053 | CW12: =1-CG12 -> 0.808 | CX12: =BY12+12 -> 15.295367 | CY12: 1 | CZ12: =(1+($BQ$30*CY12))*$BQ$47 -> 2.258625 | DA12: =IF(DF12>2*CR12,0,LN(CZ12)/12.5) -> 0.065180498 | DB12: =(CH12*CP12+CQ12*DA12) -> 0.05615556 | DC12: =IF(BU12>0.25,$BW$39,$BW$38) -> -0.0050125418 | DD12: =DB12+DC12 -> 0.051143018 | DF12: =DS11 -> 475.28153 | DG12: =DF12*$BQ$31 -> 332.69707 | DH12: =IF(OR($BA$32="n",$BA$32="p"),(DG12*(1-0.25)),(DG12*(1-EL11))) -> 269.46017 | DI12: =DH12*EXP(DB12*$BQ$37)-DH12 -> 363.52884 | DJ12: =DF12+DI12 -> 838.81038 | DK12: =DJ12-DL12 -> 61.567983 | DL12: =DJ12*EXP((IF(BU12>0.25,$BW$39,$BW$38)*$BQ$37)) -> 777.2424 | DM12: ='Immigration de varroas'!E19 -> 0 | DN12: =IF(EH12>DV12*EG12,-DV12*EG12,-EH12) -> -20.117763 | DO12: =DM12+DN12 -> -20.117763 | DP12: =DL12+DO12 -> 757.12463 | DQ12: =ER$33 -> 0 | DR12: =DP12*DQ12 -> 0 | DS12: =DP12-DR12 -> 757.12463 | DT12: =LN(DS12/DF12)/$BQ$37 -> 0.030616146 | DU12: =BA12 -> 40648 | DV12: =DF12*CA12 -> 102.39879 | DW12: =IF(BR12=0,0.001,DV12/BR12) -> 0.0063999245 | DX12: =DW12*315 -> 2.0159762 | DY12: =IF((BS12<0.25),DY11,IF(DY11=100,100,IF(CU10>$AI$52,100,""))) | DZ12: =IF(DZ11=100,100,IF(BT12<100,IF((DX10+DX11)>$AI$53,100,""),"")) | EB12: =SUM(DY12:EA12) -> 0 | EC12: =BT11*0.9/20*$BQ$37 -> 9239.0625 | ED12: =BR12-BR11 -> 4000 | EE12: =EC12-ED12 -> 5239.0625 | EF12: =EE12/$BQ$37 -> 344.4863 | EG12: =IF(DW12>0.15,1,$BQ$36) -> 0.6 | EH12: =EE12*EG12*DW12 -> 20.117763 | EJ12: =DI12 -> 363.52884 | EK12: =ER$58 -> 93.589327 | EL12: =EQ$60 -> 0.12950948 | EP12: 40648 | EQ12: 43023 | ES12: 0.62 | ET12: 7.875
BA13: =IF($AC$21="x", EQ13,EP13) -> 40664 | BB13: =IF(EB13>0,"",DF13) -> 757.12463 | BC13: =IF(EB13>0,"",DT13) -> 0.02995822 | BD13: =IF(EB13>0,"",DM13) -> 0 | BE13: =IF(EB13>0,"",DX13) -> 2.6979622 | BF13: =IF(EB13>0,"",IF(BT13<5,"s.o.",CU13)) -> 0.029066464 | BG13: =IF(EB13>0,"",CA13) -> 0.24887462 | BP13: =BA13 -> 40664 | BQ13: =IF($BA$32="d",'Profils de colonie'!I39,IF($BA$32="n",'Profils de colonie'!I67,IF($BA$32="p",'Profils de colonie'!I95,IF($BA$32="a",'Profils de colonie'!I123,IF($BA$32="b",'Profils de colonie'!I151,IF($BA$32="c",'Profils de colonie'!I179,IF($BA$32="r",'Profils de colonie'!I207,IF($BA$32="s",'Profils de colonie'!I235,IF($BA$32="f",'Profils de colonie'!I263,"erreur"))))))))) -> 11 | BR13: =BQ13*$BQ$45 -> 22000 | BS13: =IF($BA$32="d",'Profils de colonie'!G39,IF($BA$32="n",'Profils de colonie'!G67,IF($BA$32="p",'Profils de colonie'!G95,IF($BA$32="a",'Profils de colonie'!G123,IF($BA$32="b",'Profils de colonie'!G151,IF($BA$32="c",'Profils de colonie'!G179,IF($BA$32="r",'Profils de colonie'!G207,IF($BA$32="s",'Profils de colonie'!G235,IF($BA$32="f",'Profils de colonie'!G263,"erreur"))))))))) -> 6 | BT13: =IF(BS13=0,1,$BQ$44*BS13) -> 27000 | BU13: =IF(BR13=0,0,BT13/BR13) -> 1.2272727 | BV13: =BT13*12/20 -> 16200 | BW13: =CU13*BV13 -> 470.87671 | BX13: =BT13/20 -> 1350 | BY13: =IF(BU13=0,0.001,(-$BQ$43*LN(BU13))+$BQ$42) -> 3.9760279 | BZ13: =BY13+12 -> 15.976028 | CA13: =IF(BS13=0,1,BY13/BZ13) -> 0.24887462 | CB13: =1-CA13 -> 0.75112538 | CC13: =DF13*CB13 -> 568.69553 | CD13: =0.6*BT13 -> 16200 | CE13: =IF($BA$32="d",'Profils de colonie'!K39,IF($BA$32="n",'Profils de colonie'!K67,IF($BA$32="p",'Profils de colonie'!K95,IF($BA$32="a",'Profils de colonie'!K123,IF($BA$32="b",'Profils de colonie'!K151,IF($BA$32="c",'Profils de colonie'!K179,IF($BA$32="r",'Profils de colonie'!K207,IF($BA$32="s",'Profils de colonie'!K207,IF($BA$32="f",'Profils de colonie'!K263,"erreur"))))))))) -> 0.06 | CF13: =CE13*16/25 -> 0.0384 | CG13: =CF13*$BQ$43 -> 0.192 | CH13: =CG13*CB13 -> 0.14421607 | CI13: =CG13*CC13 -> 109.18954 | CJ13: =IF(CF13=0,0,CI13/(CD13*CF13)) -> 0.17552331 | CK13: =1-(POISSON(0,CJ13,FALSE)) -> 0.16098216 | CL13: =IF(CK13=0,0,CJ13/CK13) -> 1.0903277 | CM13: =BY13+15 -> 18.976028 | CN13: 1 | CO13: =(1+($BQ$32*CN13))*$BQ$47 -> 4.275 | CP13: =LN(CO13)/14.75 -> 0.098493837 | CQ13: =1-CA13-CH13 -> 0.6069093 | CR13: =(1-CF13)*CD13 -> 15577.92 | CS13: =CC13-CI13 -> 459.50598 | CT13: =CS13/CR13 -> 0.029497262 | CU13: =1-(POISSON(0,CT13,FALSE)) -> 0.029066464 | CV13: =CT13/(CU13+0.000001) -> 1.0147862 | CW13: =1-CG13 -> 0.808 | CX13: =BY13+12 -> 15.976028 | CY13: 1 | CZ13: =(1+($BQ$30*CY13))*$BQ$47 -> 2.258625 | DA13: =IF(DF13>2*CR13,0,LN(CZ13)/12.5) -> 0.065180498 | DB13: =(CH13*CP13+CQ13*DA13) -> 0.053763045 | DC13: =IF(BU13>0.25,$BW$39,$BW$38) -> -0.0050125418 | DD13: =DB13+DC13 -> 0.048750503 | DF13: =DS12 -> 757.12463 | DG13: =DF13*$BQ$31 -> 529.98724 | DH13: =DG13*(1-EL12) -> 461.34887 | DI13: =DH13*EXP(DB13*$BQ$37)-DH13 -> 583.68109 | DJ13: =DF13+DI13 -> 1340.8057 | DK13: =DJ13-DL13 -> 98.414023 | DL13: =DJ13*EXP((IF(BU13>0.25,$BW$39,$BW$38)*$BQ$37)) -> 1242.3917 | DM13: ='Immigration de varroas'!E20 -> 0 | DN13: =IF(EH13>DV13*EG13,-DV13*EG13,-EH13) -> -48.298342 | DO13: =DM13+DN13 -> -48.298342 | DP13: =DL13+DO13 -> 1194.0934 | DQ13: =ES$33 -> 0 | DR13: =DP13*DQ13 -> 0 | DS13: =DP13-DR13 -> 1194.0934 | DT13: =LN(DS13/DF13)/$BQ$37 -> 0.02995822 | DU13: =BA13 -> 40664 | DV13: =DF13*CA13 -> 188.42911 | DW13: =IF(BR13=0,0.001,DV13/BR13) -> 0.0085649595 | DX13: =DW13*315 -> 2.6979622 | DY13: =IF((BS13<0.25),DY12,IF(DY12=100,100,IF(CU11>$AI$52,100,""))) | DZ13: =IF(DZ12=100,100,IF(BT13<100,IF((DX11+DX12)>$AI$53,100,""),"")) | EB13: =SUM(DY13:EA13) -> 0 | EC13: =BT12*0.9/20*$BQ$37 -> 15398.438 | ED13: =BR13-BR12 -> 6000 | EE13: =EC13-ED13 -> 9398.4375 | EF13: =EE13/$BQ$37 -> 617.97945 | EG13: =IF(DW13>0.15,1,$BQ$36) -> 0.6 | EH13: =EE13*EG13*DW13 -> 48.298342 | EJ13: =DI13 -> 583.68109 | EK13: =ES$58 -> 124.94891 | EL13: =ER$60 -> 0.10439899 | EP13: 40664 | EQ13: 43040 | ES13: 0.6
